{
 "currentVersion": 10.91,
 "serviceDescription": "1840_Plan_Dieppe_Gallica_georef",
 "name": "1840_Plan_Dieppe_Gallica_georef",
 "description": "",
 "extent": {
  "xmin": 1560428.0159284761,
  "ymin": 9191081.900415454,
  "xmax": 1564202.810515169,
  "ymax": 9195352.400135003,
  "spatialReference": {
   "wkid": 3950,
   "latestWkid": 3950
  }
 },
 "initialExtent": {
  "xmin": 1560428.0159284761,
  "ymin": 9191081.900415454,
  "xmax": 1564202.810515169,
  "ymax": 9195352.400135003,
  "spatialReference": {
   "wkid": 3950,
   "latestWkid": 3950
  }
 },
 "fullExtent": {
  "xmin": 1560428.0159284761,
  "ymin": 9191081.900415454,
  "xmax": 1564202.810515169,
  "ymax": 9195352.400135003,
  "spatialReference": {
   "wkid": 3950,
   "latestWkid": 3950
  }
 },
 "hasMultidimensions": false,
 "pixelSizeX": 2.4785256642763867,
 "pixelSizeY": 2.4785256642768254,
 "datasetFormat": "SDR",
 "uncompressedSize": 7872387,
 "blockWidth": 128,
 "blockHeight": 128,
 "compressionType": "LZ77",
 "bandNames": [
  "Band_1",
  "Band_2",
  "Band_3"
 ],
 "allowCopy": true,
 "allowAnalysis": true,
 "bandCount": 3,
 "pixelType": "U8",
 "minPixelSize": 0,
 "maxPixelSize": 0,
 "copyrightText": "",
 "serviceDataType": "esriImageServiceDataTypeRGB",
 "serviceSourceType": "esriImageServiceSourceTypeDataset",
 "minValues": [
  38,
  23,
  4
 ],
 "maxValues": [
  255,
  255,
  255
 ],
 "meanValues": [
  212.85430353896757,
  203.93650378904098,
  190.96039250747526
 ],
 "stdvValues": [
  24.21376563246675,
  26.050212549330467,
  32.21654056811525
 ],
 "objectIdField": "",
 "fields": [],
 "capabilities": "Image,Metadata,Mensuration",
 "defaultMosaicMethod": "Center",
 "allowedMosaicMethods": "",
 "sortField": "",
 "sortValue": null,
 "sortAscending": true,
 "mosaicOperator": "First",
 "defaultCompressionQuality": 75,
 "defaultResamplingMethod": "Bilinear",
 "maxImageHeight": 4100,
 "maxImageWidth": 15000,
 "allowRasterFunction": true,
 "rasterFunctionInfos": [
  {
   "name": "None",
   "description": "",
   "help": ""
  }
 ],
 "rasterTypeInfos": [
  {
   "name": "Raster Dataset",
   "description": "Prend en charge tous les jeux de données raster ArcGIS",
   "help": ""
  }
 ],
 "mensurationCapabilities": "Basic",
 "hasHistograms": true,
 "hasColormap": false,
 "hasRasterAttributeTable": false,
 "minScale": 0,
 "maxScale": 0,
 "exportTilesAllowed": false,
 "supportsStatistics": false,
 "supportsAdvancedQueries": false,
 "editFieldsInfo": null,
 "ownershipBasedAccessControlForRasters": null,
 "allowComputeTiePoints": false,
 "useStandardizedQueries": true,
 "advancedQueryCapabilities": {
  "useStandardizedQueries": true,
  "supportsStatistics": false,
  "supportsOrderBy": false,
  "supportsDistinct": false,
  "supportsPagination": false
 },
 "spatialReference": {
  "wkid": 3950,
  "latestWkid": 3950
 }
}
