{
 "currentVersion": 10.91,
 "serviceDescription": "993_5_1_06_georef",
 "name": "993_5_1_06_georef",
 "description": "",
 "extent": {
  "xmin": 1560697.915368959,
  "ymin": 9192078.531224102,
  "xmax": 1563902.168505861,
  "ymax": 9195174.956656246,
  "spatialReference": {
   "wkid": 3950,
   "latestWkid": 3950
  }
 },
 "initialExtent": {
  "xmin": 1560697.915368959,
  "ymin": 9192078.531224102,
  "xmax": 1563902.168505861,
  "ymax": 9195174.956656246,
  "spatialReference": {
   "wkid": 3950,
   "latestWkid": 3950
  }
 },
 "fullExtent": {
  "xmin": 1560697.915368959,
  "ymin": 9192078.531224102,
  "xmax": 1563902.168505861,
  "ymax": 9195174.956656246,
  "spatialReference": {
   "wkid": 3950,
   "latestWkid": 3950
  }
 },
 "hasMultidimensions": false,
 "pixelSizeX": 0.5364562425752358,
 "pixelSizeY": 0.5364562425751443,
 "datasetFormat": "SDR",
 "uncompressedSize": 103410549,
 "blockWidth": 128,
 "blockHeight": 128,
 "compressionType": "LZ77",
 "bandNames": [
  "Band_1",
  "Band_2",
  "Band_3"
 ],
 "allowCopy": true,
 "allowAnalysis": true,
 "bandCount": 3,
 "pixelType": "U8",
 "minPixelSize": 0,
 "maxPixelSize": 0,
 "copyrightText": "",
 "serviceDataType": "esriImageServiceDataTypeRGB",
 "serviceSourceType": "esriImageServiceSourceTypeDataset",
 "minValues": [
  1,
  1,
  1
 ],
 "maxValues": [
  235,
  235,
  242
 ],
 "meanValues": [
  178.89339525971985,
  181.07793992966387,
  176.54767477262448
 ],
 "stdvValues": [
  25.42057172472364,
  25.74273295428039,
  27.985277715896547
 ],
 "objectIdField": "",
 "fields": [],
 "capabilities": "Image,Metadata,Mensuration",
 "defaultMosaicMethod": "Center",
 "allowedMosaicMethods": "",
 "sortField": "",
 "sortValue": null,
 "sortAscending": true,
 "mosaicOperator": "First",
 "defaultCompressionQuality": 75,
 "defaultResamplingMethod": "Bilinear",
 "maxImageHeight": 4100,
 "maxImageWidth": 15000,
 "allowRasterFunction": true,
 "rasterFunctionInfos": [
  {
   "name": "None",
   "description": "",
   "help": ""
  }
 ],
 "rasterTypeInfos": [
  {
   "name": "Raster Dataset",
   "description": "Prend en charge tous les jeux de données raster ArcGIS",
   "help": ""
  }
 ],
 "mensurationCapabilities": "Basic",
 "hasHistograms": true,
 "hasColormap": false,
 "hasRasterAttributeTable": false,
 "minScale": 0,
 "maxScale": 0,
 "exportTilesAllowed": false,
 "supportsStatistics": false,
 "supportsAdvancedQueries": false,
 "editFieldsInfo": null,
 "ownershipBasedAccessControlForRasters": null,
 "allowComputeTiePoints": false,
 "useStandardizedQueries": true,
 "advancedQueryCapabilities": {
  "useStandardizedQueries": true,
  "supportsStatistics": false,
  "supportsOrderBy": false,
  "supportsDistinct": false,
  "supportsPagination": false
 },
 "spatialReference": {
  "wkid": 3950,
  "latestWkid": 3950
 }
}
