{
 "currentVersion": 10.91,
 "serviceDescription": "T007_1335_georef",
 "name": "T007_1335_georef",
 "description": "",
 "extent": {
  "xmin": 1560830.248720836,
  "ymin": 9192798.703099737,
  "xmax": 1563254.4762098666,
  "ymax": 9194695.320940524,
  "spatialReference": {
   "wkid": 3950,
   "latestWkid": 3950
  }
 },
 "initialExtent": {
  "xmin": 1560830.248720836,
  "ymin": 9192798.703099737,
  "xmax": 1563254.4762098666,
  "ymax": 9194695.320940524,
  "spatialReference": {
   "wkid": 3950,
   "latestWkid": 3950
  }
 },
 "fullExtent": {
  "xmin": 1560830.248720836,
  "ymin": 9192798.703099737,
  "xmax": 1563254.4762098666,
  "ymax": 9194695.320940524,
  "spatialReference": {
   "wkid": 3950,
   "latestWkid": 3950
  }
 },
 "hasMultidimensions": false,
 "pixelSizeX": 2.776892885487614,
 "pixelSizeY": 2.7768928854866703,
 "datasetFormat": "SDR",
 "uncompressedSize": 1788777,
 "blockWidth": 128,
 "blockHeight": 128,
 "compressionType": "LZ77",
 "bandNames": [
  "Band_1",
  "Band_2",
  "Band_3"
 ],
 "allowCopy": true,
 "allowAnalysis": true,
 "bandCount": 3,
 "pixelType": "U8",
 "minPixelSize": 0,
 "maxPixelSize": 0,
 "copyrightText": "",
 "serviceDataType": "esriImageServiceDataTypeRGB",
 "serviceSourceType": "esriImageServiceSourceTypeDataset",
 "minValues": [
  1,
  1,
  1
 ],
 "maxValues": [
  255,
  255,
  255
 ],
 "meanValues": [
  175.69741586994564,
  170.1322024411911,
  155.4172690524141
 ],
 "stdvValues": [
  46.51789148334655,
  46.007422519267884,
  48.178395588074885
 ],
 "objectIdField": "",
 "fields": [],
 "capabilities": "Image,Metadata,Mensuration",
 "defaultMosaicMethod": "Center",
 "allowedMosaicMethods": "",
 "sortField": "",
 "sortValue": null,
 "sortAscending": true,
 "mosaicOperator": "First",
 "defaultCompressionQuality": 75,
 "defaultResamplingMethod": "Bilinear",
 "maxImageHeight": 4100,
 "maxImageWidth": 15000,
 "allowRasterFunction": true,
 "rasterFunctionInfos": [
  {
   "name": "None",
   "description": "",
   "help": ""
  }
 ],
 "rasterTypeInfos": [
  {
   "name": "Raster Dataset",
   "description": "Prend en charge tous les jeux de données raster ArcGIS",
   "help": ""
  }
 ],
 "mensurationCapabilities": "Basic",
 "hasHistograms": true,
 "hasColormap": false,
 "hasRasterAttributeTable": false,
 "minScale": 0,
 "maxScale": 0,
 "exportTilesAllowed": false,
 "supportsStatistics": false,
 "supportsAdvancedQueries": false,
 "editFieldsInfo": null,
 "ownershipBasedAccessControlForRasters": null,
 "allowComputeTiePoints": false,
 "useStandardizedQueries": true,
 "advancedQueryCapabilities": {
  "useStandardizedQueries": true,
  "supportsStatistics": false,
  "supportsOrderBy": false,
  "supportsDistinct": false,
  "supportsPagination": false
 },
 "spatialReference": {
  "wkid": 3950,
  "latestWkid": 3950
 }
}
