{
 "currentVersion": 10.91,
 "serviceDescription": "r_T904_0_726a_georef",
 "name": "r_T904_0_726a_georef",
 "description": "",
 "extent": {
  "xmin": 1560782.0884638461,
  "ymin": 9192135.973744191,
  "xmax": 1563516.9108123297,
  "ymax": 9194745.134789113,
  "spatialReference": {
   "wkid": 3950,
   "latestWkid": 3950
  }
 },
 "initialExtent": {
  "xmin": 1560782.0884638461,
  "ymin": 9192135.973744191,
  "xmax": 1563516.9108123297,
  "ymax": 9194745.134789113,
  "spatialReference": {
   "wkid": 3950,
   "latestWkid": 3950
  }
 },
 "fullExtent": {
  "xmin": 1560782.0884638461,
  "ymin": 9192135.973744191,
  "xmax": 1563516.9108123297,
  "ymax": 9194745.134789113,
  "spatialReference": {
   "wkid": 3950,
   "latestWkid": 3950
  }
 },
 "hasMultidimensions": false,
 "pixelSizeX": 1.3511968124918998,
 "pixelSizeY": 1.3511968124918312,
 "datasetFormat": "SDR",
 "uncompressedSize": 11725032,
 "blockWidth": 128,
 "blockHeight": 128,
 "compressionType": "LZ77",
 "bandNames": [
  "Band_1",
  "Band_2",
  "Band_3"
 ],
 "allowCopy": true,
 "allowAnalysis": true,
 "bandCount": 3,
 "pixelType": "U8",
 "minPixelSize": 0,
 "maxPixelSize": 0,
 "copyrightText": "",
 "serviceDataType": "esriImageServiceDataTypeRGB",
 "serviceSourceType": "esriImageServiceSourceTypeDataset",
 "minValues": [
  1,
  1,
  1
 ],
 "maxValues": [
  245,
  245,
  245
 ],
 "meanValues": [
  172.87150001188786,
  166.73418602450982,
  161.9859836600692
 ],
 "stdvValues": [
  29.388793144589396,
  29.385020169118782,
  29.388911917944423
 ],
 "objectIdField": "",
 "fields": [],
 "capabilities": "Image,Metadata,Mensuration",
 "defaultMosaicMethod": "Center",
 "allowedMosaicMethods": "",
 "sortField": "",
 "sortValue": null,
 "sortAscending": true,
 "mosaicOperator": "First",
 "defaultCompressionQuality": 75,
 "defaultResamplingMethod": "Bilinear",
 "maxImageHeight": 4100,
 "maxImageWidth": 15000,
 "allowRasterFunction": true,
 "rasterFunctionInfos": [
  {
   "name": "None",
   "description": "",
   "help": ""
  }
 ],
 "rasterTypeInfos": [
  {
   "name": "Raster Dataset",
   "description": "Prend en charge tous les jeux de données raster ArcGIS",
   "help": ""
  }
 ],
 "mensurationCapabilities": "Basic",
 "hasHistograms": true,
 "hasColormap": false,
 "hasRasterAttributeTable": false,
 "minScale": 0,
 "maxScale": 0,
 "exportTilesAllowed": false,
 "supportsStatistics": false,
 "supportsAdvancedQueries": false,
 "editFieldsInfo": null,
 "ownershipBasedAccessControlForRasters": null,
 "allowComputeTiePoints": false,
 "useStandardizedQueries": true,
 "advancedQueryCapabilities": {
  "useStandardizedQueries": true,
  "supportsStatistics": false,
  "supportsOrderBy": false,
  "supportsDistinct": false,
  "supportsPagination": false
 },
 "spatialReference": {
  "wkid": 3950,
  "latestWkid": 3950
 }
}
