View In:
ArcGIS JavaScript
ArcGIS Online Map Viewer
ArcGIS Earth
ArcMap
View Footprint In:
ArcGIS Online Map Viewer
Service Description: sig_aop_r_T956_2_1_georef_tif
Name: sig_aop_r_T956_2_1_georef_tif
Description:
Single Fused Map Cache: false
Extent:
XMin: 1559835.1757917819
YMin: 9191675.4382532
XMax: 1564259.6607440892
YMax: 9194868.568577789
Spatial Reference: 3950
(3950)
Initial Extent:
XMin: 1559835.1757917819
YMin: 9191675.4382532
XMax: 1564259.6607440892
YMax: 9194868.568577789
Spatial Reference: 3950
(3950)
Full Extent:
XMin: 1559835.1757917819
YMin: 9191675.4382532
XMax: 1564259.6607440892
YMax: 9194868.568577789
Spatial Reference: 3950
(3950)
Pixel Size X: 0.856296681305846
Pixel Size Y: 0.8562966813057358
Band Count: 3
Pixel Type: U8
RasterFunction Infos: {"rasterFunctionInfos": [{
"name": "None",
"description": "",
"help": ""
}]}
Mensuration Capabilities: Basic
Has Histograms: true
Has Colormap: false
Has Multi Dimensions : false
Rendering Rule:
Min Scale: 0
Max Scale: 0
Copyright Text:
Service Data Type: esriImageServiceDataTypeRGB
Min Values: 1, 1, 1
Max Values: 255, 255, 255
Mean Values: 157.00032145896432, 153.85078228321944, 145.58570822617762
Standard Deviation Values: 41.98529031419117, 38.983793785146325, 41.17953924482728
Object ID Field:
Fields:
None
Default Mosaic Method: Center
Allowed Mosaic Methods:
SortField:
SortValue: null
Mosaic Operator: First
Default Compression Quality: 75
Default Resampling Method: Bilinear
Max Record Count: null
Max Image Height: 4100
Max Image Width: 15000
Max Download Image Count: null
Max Mosaic Image Count: null
Allow Raster Function: true
Allow Copy: true
Allow Analysis: true
Allow Compute TiePoints: false
Supports Statistics: false
Supports Advanced Queries: false
Use StandardizedQueries: true
Raster Type Infos:
Name: Raster Dataset
Description: Prend en charge tous les jeux de données raster ArcGIS
Help:
Has Raster Attribute Table: false
Edit Fields Info: null
Ownership Based AccessControl For Rasters: null
Child Resources:
Info
Histograms
Statistics
Key Properties
Legend
Raster Function Infos
Supported Operations:
Export Image
Identify
Measure
Compute Histograms
Compute Statistics Histograms
Get Samples
Compute Class Statistics
Query Boundary
Compute Pixel Location
Compute Angles
Validate
Project