View In:
ArcGIS JavaScript
ArcGIS Online Map Viewer
ArcGIS Earth
ArcMap
View Footprint In:
ArcGIS Online Map Viewer
Service Description: sig_aop_r_T981_9_9_georef_tif
Name: sig_aop_r_T981_9_9_georef_tif
Description:
Single Fused Map Cache: false
Extent:
XMin: 1560637.6498122427
YMin: 9192182.015700413
XMax: 1563760.1318388337
YMax: 9194994.857024994
Spatial Reference: 3950
(3950)
Initial Extent:
XMin: 1560637.6498122427
YMin: 9192182.015700413
XMax: 1563760.1318388337
YMax: 9194994.857024994
Spatial Reference: 3950
(3950)
Full Extent:
XMin: 1560637.6498122427
YMin: 9192182.015700413
XMax: 1563760.1318388337
YMax: 9194994.857024994
Spatial Reference: 3950
(3950)
Pixel Size X: 3.259375810637751
Pixel Size Y: 3.2593758106382773
Band Count: 3
Pixel Type: U8
RasterFunction Infos: {"rasterFunctionInfos": [{
"name": "None",
"description": "",
"help": ""
}]}
Mensuration Capabilities: Basic
Has Histograms: true
Has Colormap: false
Has Multi Dimensions : false
Rendering Rule:
Min Scale: 0
Max Scale: 0
Copyright Text:
Service Data Type: esriImageServiceDataTypeRGB
Min Values: 3, 3, 1
Max Values: 255, 255, 255
Mean Values: 143.49159531041687, 142.47351813333822, 132.7754913010544
Standard Deviation Values: 41.32452317973973, 39.19976724602342, 39.00188649660846
Object ID Field:
Fields:
None
Default Mosaic Method: Center
Allowed Mosaic Methods:
SortField:
SortValue: null
Mosaic Operator: First
Default Compression Quality: 75
Default Resampling Method: Bilinear
Max Record Count: null
Max Image Height: 4100
Max Image Width: 15000
Max Download Image Count: null
Max Mosaic Image Count: null
Allow Raster Function: true
Allow Copy: true
Allow Analysis: true
Allow Compute TiePoints: false
Supports Statistics: false
Supports Advanced Queries: false
Use StandardizedQueries: true
Raster Type Infos:
Name: Raster Dataset
Description: Prend en charge tous les jeux de données raster ArcGIS
Help:
Has Raster Attribute Table: false
Edit Fields Info: null
Ownership Based AccessControl For Rasters: null
Child Resources:
Info
Histograms
Statistics
Key Properties
Legend
Raster Function Infos
Supported Operations:
Export Image
Identify
Measure
Compute Histograms
Compute Statistics Histograms
Get Samples
Compute Class Statistics
Query Boundary
Compute Pixel Location
Compute Angles
Validate
Project