View In:
ArcGIS JavaScript
ArcGIS Online Map Viewer
ArcGIS Earth
ArcMap
View Footprint In:
ArcGIS Online Map Viewer
Service Description: 1840_Plan_Dieppe_Gallica_georef
Name: 1840_Plan_Dieppe_Gallica_georef
Description:
Single Fused Map Cache: false
Extent:
XMin: 1560428.0159284761
YMin: 9191081.900415454
XMax: 1564202.810515169
YMax: 9195352.400135003
Spatial Reference: 3950
(3950)
Initial Extent:
XMin: 1560428.0159284761
YMin: 9191081.900415454
XMax: 1564202.810515169
YMax: 9195352.400135003
Spatial Reference: 3950
(3950)
Full Extent:
XMin: 1560428.0159284761
YMin: 9191081.900415454
XMax: 1564202.810515169
YMax: 9195352.400135003
Spatial Reference: 3950
(3950)
Pixel Size X: 2.4785256642763867
Pixel Size Y: 2.4785256642768254
Band Count: 3
Pixel Type: U8
RasterFunction Infos: {"rasterFunctionInfos": [{
"name": "None",
"description": "",
"help": ""
}]}
Mensuration Capabilities: Basic
Has Histograms: true
Has Colormap: false
Has Multi Dimensions : false
Rendering Rule:
Min Scale: 0
Max Scale: 0
Copyright Text:
Service Data Type: esriImageServiceDataTypeRGB
Min Values: 38, 23, 4
Max Values: 255, 255, 255
Mean Values: 212.85430353896757, 203.93650378904098, 190.96039250747526
Standard Deviation Values: 24.21376563246675, 26.050212549330467, 32.21654056811525
Object ID Field:
Fields:
None
Default Mosaic Method: Center
Allowed Mosaic Methods:
SortField:
SortValue: null
Mosaic Operator: First
Default Compression Quality: 75
Default Resampling Method: Bilinear
Max Record Count: null
Max Image Height: 4100
Max Image Width: 15000
Max Download Image Count: null
Max Mosaic Image Count: null
Allow Raster Function: true
Allow Copy: true
Allow Analysis: true
Allow Compute TiePoints: false
Supports Statistics: false
Supports Advanced Queries: false
Use StandardizedQueries: true
Raster Type Infos:
Name: Raster Dataset
Description: Prend en charge tous les jeux de données raster ArcGIS
Help:
Has Raster Attribute Table: false
Edit Fields Info: null
Ownership Based AccessControl For Rasters: null
Child Resources:
Info
Histograms
Statistics
Key Properties
Legend
Raster Function Infos
Supported Operations:
Export Image
Identify
Measure
Compute Histograms
Compute Statistics Histograms
Get Samples
Compute Class Statistics
Query Boundary
Compute Pixel Location
Compute Angles
Validate
Project