View In:
ArcGIS JavaScript
ArcGIS Online Map Viewer
ArcGIS Earth
ArcMap
View Footprint In:
ArcGIS Online Map Viewer
Service Description: 993_5_1_06_georef
Name: 993_5_1_06_georef
Description:
Single Fused Map Cache: false
Extent:
XMin: 1560697.915368959
YMin: 9192078.531224102
XMax: 1563902.168505861
YMax: 9195174.956656246
Spatial Reference: 3950
(3950)
Initial Extent:
XMin: 1560697.915368959
YMin: 9192078.531224102
XMax: 1563902.168505861
YMax: 9195174.956656246
Spatial Reference: 3950
(3950)
Full Extent:
XMin: 1560697.915368959
YMin: 9192078.531224102
XMax: 1563902.168505861
YMax: 9195174.956656246
Spatial Reference: 3950
(3950)
Pixel Size X: 0.5364562425752358
Pixel Size Y: 0.5364562425751443
Band Count: 3
Pixel Type: U8
RasterFunction Infos: {"rasterFunctionInfos": [{
"name": "None",
"description": "",
"help": ""
}]}
Mensuration Capabilities: Basic
Has Histograms: true
Has Colormap: false
Has Multi Dimensions : false
Rendering Rule:
Min Scale: 0
Max Scale: 0
Copyright Text:
Service Data Type: esriImageServiceDataTypeRGB
Min Values: 1, 1, 1
Max Values: 235, 235, 242
Mean Values: 178.89339525971985, 181.07793992966387, 176.54767477262448
Standard Deviation Values: 25.42057172472364, 25.74273295428039, 27.985277715896547
Object ID Field:
Fields:
None
Default Mosaic Method: Center
Allowed Mosaic Methods:
SortField:
SortValue: null
Mosaic Operator: First
Default Compression Quality: 75
Default Resampling Method: Bilinear
Max Record Count: null
Max Image Height: 4100
Max Image Width: 15000
Max Download Image Count: null
Max Mosaic Image Count: null
Allow Raster Function: true
Allow Copy: true
Allow Analysis: true
Allow Compute TiePoints: false
Supports Statistics: false
Supports Advanced Queries: false
Use StandardizedQueries: true
Raster Type Infos:
Name: Raster Dataset
Description: Prend en charge tous les jeux de données raster ArcGIS
Help:
Has Raster Attribute Table: false
Edit Fields Info: null
Ownership Based AccessControl For Rasters: null
Child Resources:
Info
Histograms
Statistics
Key Properties
Legend
Raster Function Infos
Supported Operations:
Export Image
Identify
Measure
Compute Histograms
Compute Statistics Histograms
Get Samples
Compute Class Statistics
Query Boundary
Compute Pixel Location
Compute Angles
Validate
Project