View In:
ArcGIS JavaScript
ArcGIS Online Map Viewer
ArcGIS Earth
ArcMap
View Footprint In:
ArcGIS Online Map Viewer
Service Description: T007_1335_georef
Name: T007_1335_georef
Description:
Single Fused Map Cache: false
Extent:
XMin: 1560830.248720836
YMin: 9192798.703099737
XMax: 1563254.4762098666
YMax: 9194695.320940524
Spatial Reference: 3950
(3950)
Initial Extent:
XMin: 1560830.248720836
YMin: 9192798.703099737
XMax: 1563254.4762098666
YMax: 9194695.320940524
Spatial Reference: 3950
(3950)
Full Extent:
XMin: 1560830.248720836
YMin: 9192798.703099737
XMax: 1563254.4762098666
YMax: 9194695.320940524
Spatial Reference: 3950
(3950)
Pixel Size X: 2.776892885487614
Pixel Size Y: 2.7768928854866703
Band Count: 3
Pixel Type: U8
RasterFunction Infos: {"rasterFunctionInfos": [{
"name": "None",
"description": "",
"help": ""
}]}
Mensuration Capabilities: Basic
Has Histograms: true
Has Colormap: false
Has Multi Dimensions : false
Rendering Rule:
Min Scale: 0
Max Scale: 0
Copyright Text:
Service Data Type: esriImageServiceDataTypeRGB
Min Values: 1, 1, 1
Max Values: 255, 255, 255
Mean Values: 175.69741586994564, 170.1322024411911, 155.4172690524141
Standard Deviation Values: 46.51789148334655, 46.007422519267884, 48.178395588074885
Object ID Field:
Fields:
None
Default Mosaic Method: Center
Allowed Mosaic Methods:
SortField:
SortValue: null
Mosaic Operator: First
Default Compression Quality: 75
Default Resampling Method: Bilinear
Max Record Count: null
Max Image Height: 4100
Max Image Width: 15000
Max Download Image Count: null
Max Mosaic Image Count: null
Allow Raster Function: true
Allow Copy: true
Allow Analysis: true
Allow Compute TiePoints: false
Supports Statistics: false
Supports Advanced Queries: false
Use StandardizedQueries: true
Raster Type Infos:
Name: Raster Dataset
Description: Prend en charge tous les jeux de données raster ArcGIS
Help:
Has Raster Attribute Table: false
Edit Fields Info: null
Ownership Based AccessControl For Rasters: null
Child Resources:
Info
Histograms
Statistics
Key Properties
Legend
Raster Function Infos
Supported Operations:
Export Image
Identify
Measure
Compute Histograms
Compute Statistics Histograms
Get Samples
Compute Class Statistics
Query Boundary
Compute Pixel Location
Compute Angles
Validate
Project