View In:
ArcGIS JavaScript
ArcGIS Online Map Viewer
ArcGIS Earth
ArcMap
View Footprint In:
ArcGIS Online Map Viewer
Service Description: r_T904_0_726a_georef
Name: r_T904_0_726a_georef
Description:
Single Fused Map Cache: false
Extent:
XMin: 1560782.0884638461
YMin: 9192135.973744191
XMax: 1563516.9108123297
YMax: 9194745.134789113
Spatial Reference: 3950
(3950)
Initial Extent:
XMin: 1560782.0884638461
YMin: 9192135.973744191
XMax: 1563516.9108123297
YMax: 9194745.134789113
Spatial Reference: 3950
(3950)
Full Extent:
XMin: 1560782.0884638461
YMin: 9192135.973744191
XMax: 1563516.9108123297
YMax: 9194745.134789113
Spatial Reference: 3950
(3950)
Pixel Size X: 1.3511968124918998
Pixel Size Y: 1.3511968124918312
Band Count: 3
Pixel Type: U8
RasterFunction Infos: {"rasterFunctionInfos": [{
"name": "None",
"description": "",
"help": ""
}]}
Mensuration Capabilities: Basic
Has Histograms: true
Has Colormap: false
Has Multi Dimensions : false
Rendering Rule:
Min Scale: 0
Max Scale: 0
Copyright Text:
Service Data Type: esriImageServiceDataTypeRGB
Min Values: 1, 1, 1
Max Values: 245, 245, 245
Mean Values: 172.87150001188786, 166.73418602450982, 161.9859836600692
Standard Deviation Values: 29.388793144589396, 29.385020169118782, 29.388911917944423
Object ID Field:
Fields:
None
Default Mosaic Method: Center
Allowed Mosaic Methods:
SortField:
SortValue: null
Mosaic Operator: First
Default Compression Quality: 75
Default Resampling Method: Bilinear
Max Record Count: null
Max Image Height: 4100
Max Image Width: 15000
Max Download Image Count: null
Max Mosaic Image Count: null
Allow Raster Function: true
Allow Copy: true
Allow Analysis: true
Allow Compute TiePoints: false
Supports Statistics: false
Supports Advanced Queries: false
Use StandardizedQueries: true
Raster Type Infos:
Name: Raster Dataset
Description: Prend en charge tous les jeux de données raster ArcGIS
Help:
Has Raster Attribute Table: false
Edit Fields Info: null
Ownership Based AccessControl For Rasters: null
Child Resources:
Info
Histograms
Statistics
Key Properties
Legend
Raster Function Infos
Supported Operations:
Export Image
Identify
Measure
Compute Histograms
Compute Statistics Histograms
Get Samples
Compute Class Statistics
Query Boundary
Compute Pixel Location
Compute Angles
Validate
Project